Workbook

Sheet Test Request
G2: Project Number: | N2: Client on report: | AC2: Revision Number: | AH2: T/
G3: Project Name: | N3: Address: | AC3: Revision Date:
G4: Request Number: | N4: Client to Invoice: | AC4: Revised By:
E5: DOC336 | | F5: 45979 | N5: Invoice Address: | AC5: Previous Revision:
A6: Project Location: | N6: ABN: | X6: Does the Material contain any hazardous material: | AH6: Trilab Job Number (Office Use Only)
A7: Project Contact: | N7: Purchase Order No: | X7: Is your sample from a Fire Ant Zone:
A8: Invoice emailed to: | N8: Is a Purchase Order Required for invoicing: | X8: Retain Samples after testing:
A9: Reports emailed to: | N9: (Office Use) Samples Checked By: | Y9: Date Checked: | AF9: In Good condition: | AI9: Y / N
A10: Trilab Laboratory Number (Office Use Only) | B10: Bore Hole/Test Pit | C10: Sample ID to appear on Report | D10: Depth from (m) | E10: Depth to (m) | F10: Depth (m) | G10: Sample Chain of Custody ID (If applicable) | H10: Sample Type | I10: Sample Description | J10: 1 | K10: 2 | L10: 3 | M10: 4 | N10: 5 | O10: 6 | P10: 7 | Q10: 8 | R10: 9 | S10: 10 | T10: 11 | U10: 12 | V10: 13 | W10: 14 | X10: 15 | Y10: 16 | Z10: 17 | AA10: 18 | AB10: 19 | AC10: 20 | AD10: 21 | AE10: 22 | AF10: 23 | AG10: 24 | AH10: 25 | AI10: Column Number
J11: =SUM(J17:J1003) -> 0 | K11: =SUM(K17:K196) -> 0 | L11: =SUM(L17:L196) -> 0 | M11: =SUM(M17:M196) -> 0 | N11: =SUM(N17:N196) -> 0 | O11: =SUM(O17:O196) -> 0 | P11: =SUM(P17:P196) -> 0 | Q11: =SUM(Q17:Q196) -> 0 | R11: =SUM(R17:R196) -> 0 | ... AH11: =SUM(AH17:AH196) -> 0 | AI11: Number of Tests Selected
J12: --Select Test-- | K12: --Select Test-- | L12: --Select Test-- | M12: --Select Test-- | N12: --Select Test-- | O12: --Select Test-- | P12: --Select Test-- | Q12: --Select Test-- | R12: --Select Test-- | S12: --Select Test-- | T12: --Select Test-- | U12: --Select Test-- | V12: --Select Test-- | W12: --Select Test-- | X12: --Select Test-- | Y12: --Select Test-- | Z12: --Select Test-- | AA12: --Select Test-- | AB12: --Select Test-- | AC12: --Select Test-- | AD12: --Select Test-- | AE12: --Select Test-- | AF12: --Select Test-- | AG12: --Select Test-- | AH12: --Select Test-- | AI12: Delivery Number:
AI14: Storage Bay:
A16: Sample Code | J16: Select | K16: Select | L16: Select | M16: Select | N16: Select | O16: Select | P16: Select | Q16: Select | R16: Select | S16: Select | T16: Select | U16: Select | V16: Select | W16: Select | X16: Select | Y16: Select | Z16: Select | AA16: Select | AB16: Select | AC16: Select | AD16: Select | AE16: Select | AF16: Select | AG16: Select | AH16: Select | AI16: Additional Notes (Include specified Test Parameters where required)
A334: 0 | B334: 0 | C334: 0 | D334: 0 | H334: 0 | I334: 0 | J334: 0 | K334: 0 | L334: 0 | M334: 0 | N334: 0 | O334: 0 | P334: 0 | Q334: 0 | R334: 0 | S334: 0 | T334: 0 | U334: 0 | V334: 0 | W334: 0 | X334: 0 | Y334: 0 | Z334: 0 | AA334: 0 | AB334: 0 | AC334: 0 | AD334: 0 | AE334: 0 | AF334: 0 | AG334: 0 | AH334: 0 | AI334: 0

Sheet Bulk Import
A1: =IF(OR('Test Request'!B17=0, 'Test Request'!B17=""), "", 'Test Request'!B17) | B1: =IF(OR('Test Request'!F17=0, 'Test Request'!F17=""), "", 'Test Request'!F17) | C1: =IF(OR('Test Request'!I17=0, 'Test Request'!I17=""), "", 'Test Request'!I17) | D1: =IF(OR('Test Request'!G17=0, 'Test Request'!G17=""), "", 'Test Request'!G17) | E1: =IF(OR('Test Request'!C17=0, 'Test Request'!C17=""), "", 'Test Request'!C17) | M1: --Select Test-- | S1: Select | U1: Rock Core
A2: =IF(OR('Test Request'!B18=0, 'Test Request'!B18=""), "", 'Test Request'!B18) | B2: =IF(OR('Test Request'!F18=0, 'Test Request'!F18=""), "", 'Test Request'!F18) | C2: =IF(OR('Test Request'!I18=0, 'Test Request'!I18=""), "", 'Test Request'!I18) | D2: =IF(OR('Test Request'!G18=0, 'Test Request'!G18=""), "", 'Test Request'!G18) | E2: =IF(OR('Test Request'!C18=0, 'Test Request'!C18=""), "", 'Test Request'!C18) | M2: ---Soil Tests--- | S2: AS | U2: Rock Sample
A3: =IF(OR('Test Request'!B19=0, 'Test Request'!B19=""), "", 'Test Request'!B19) | B3: =IF(OR('Test Request'!F19=0, 'Test Request'!F19=""), "", 'Test Request'!F19) | C3: =IF(OR('Test Request'!I19=0, 'Test Request'!I19=""), "", 'Test Request'!I19) | D3: =IF(OR('Test Request'!G19=0, 'Test Request'!G19=""), "", 'Test Request'!G19) | E3: =IF(OR('Test Request'!C19=0, 'Test Request'!C19=""), "", 'Test Request'!C19) | M3: Laboratory Classification | S3: ASTM | U3: Soil Sample
A4: =IF(OR('Test Request'!B20=0, 'Test Request'!B20=""), "", 'Test Request'!B20) | B4: =IF(OR('Test Request'!F20=0, 'Test Request'!F20=""), "", 'Test Request'!F20) | C4: =IF(OR('Test Request'!I20=0, 'Test Request'!I20=""), "", 'Test Request'!I20) | D4: =IF(OR('Test Request'!G20=0, 'Test Request'!G20=""), "", 'Test Request'!G20) | E4: =IF(OR('Test Request'!C20=0, 'Test Request'!C20=""), "", 'Test Request'!C20) | M4: Moisture Content | S4: QMTR | U4: Soil Tube
A5: =IF(OR('Test Request'!B21=0, 'Test Request'!B21=""), "", 'Test Request'!B21) | B5: =IF(OR('Test Request'!F21=0, 'Test Request'!F21=""), "", 'Test Request'!F21) | C5: =IF(OR('Test Request'!I21=0, 'Test Request'!I21=""), "", 'Test Request'!I21) | D5: =IF(OR('Test Request'!G21=0, 'Test Request'!G21=""), "", 'Test Request'!G21) | E5: =IF(OR('Test Request'!C21=0, 'Test Request'!C21=""), "", 'Test Request'!C21) | M5: Size Grading (PSD) to 75um | S5: PRC | U5: Concrete Sample
A6: =IF(OR('Test Request'!B22=0, 'Test Request'!B22=""), "", 'Test Request'!B22) | B6: =IF(OR('Test Request'!F22=0, 'Test Request'!F22=""), "", 'Test Request'!F22) | C6: =IF(OR('Test Request'!I22=0, 'Test Request'!I22=""), "", 'Test Request'!I22) | D6: =IF(OR('Test Request'!G22=0, 'Test Request'!G22=""), "", 'Test Request'!G22) | E6: =IF(OR('Test Request'!C22=0, 'Test Request'!C22=""), "", 'Test Request'!C22) | M6: Size Grading (PSD) to 2um (Includes Soil Particle Density) | S6: TfNSW | U6: Concrete Core
A7: =IF(OR('Test Request'!B23=0, 'Test Request'!B23=""), "", 'Test Request'!B23) | B7: =IF(OR('Test Request'!F23=0, 'Test Request'!F23=""), "", 'Test Request'!F23) | C7: =IF(OR('Test Request'!I23=0, 'Test Request'!I23=""), "", 'Test Request'!I23) | D7: =IF(OR('Test Request'!G23=0, 'Test Request'!G23=""), "", 'Test Request'!G23) | E7: =IF(OR('Test Request'!C23=0, 'Test Request'!C23=""), "", 'Test Request'!C23) | M7: Soil Particle Density | S7: MRWA
A8: =IF(OR('Test Request'!B24=0, 'Test Request'!B24=""), "", 'Test Request'!B24) | B8: =IF(OR('Test Request'!F24=0, 'Test Request'!F24=""), "", 'Test Request'!F24) | C8: =IF(OR('Test Request'!I24=0, 'Test Request'!I24=""), "", 'Test Request'!I24) | D8: =IF(OR('Test Request'!G24=0, 'Test Request'!G24=""), "", 'Test Request'!G24) | E8: =IF(OR('Test Request'!C24=0, 'Test Request'!C24=""), "", 'Test Request'!C24) | M8: Atterberg Limits (1 Points) | S8: BS
A9: =IF(OR('Test Request'!B25=0, 'Test Request'!B25=""), "", 'Test Request'!B25) | B9: =IF(OR('Test Request'!F25=0, 'Test Request'!F25=""), "", 'Test Request'!F25) | C9: =IF(OR('Test Request'!I25=0, 'Test Request'!I25=""), "", 'Test Request'!I25) | D9: =IF(OR('Test Request'!G25=0, 'Test Request'!G25=""), "", 'Test Request'!G25) | E9: =IF(OR('Test Request'!C25=0, 'Test Request'!C25=""), "", 'Test Request'!C25) | M9: Atterberg Limits: Cone Pentrometer (1 Points) | S9: TNZ
A10: =IF(OR('Test Request'!B26=0, 'Test Request'!B26=""), "", 'Test Request'!B26) | B10: =IF(OR('Test Request'!F26=0, 'Test Request'!F26=""), "", 'Test Request'!F26) | C10: =IF(OR('Test Request'!I26=0, 'Test Request'!I26=""), "", 'Test Request'!I26) | D10: =IF(OR('Test Request'!G26=0, 'Test Request'!G26=""), "", 'Test Request'!G26) | E10: =IF(OR('Test Request'!C26=0, 'Test Request'!C26=""), "", 'Test Request'!C26) | M10: Atterberg Limits (4 Point) | S10: AusRoad
A11: =IF(OR('Test Request'!B27=0, 'Test Request'!B27=""), "", 'Test Request'!B27) | B11: =IF(OR('Test Request'!F27=0, 'Test Request'!F27=""), "", 'Test Request'!F27) | C11: =IF(OR('Test Request'!I27=0, 'Test Request'!I27=""), "", 'Test Request'!I27) | D11: =IF(OR('Test Request'!G27=0, 'Test Request'!G27=""), "", 'Test Request'!G27) | E11: =IF(OR('Test Request'!C27=0, 'Test Request'!C27=""), "", 'Test Request'!C27) | M11: Atterberg Limits: Cone Pentrometer (4 Point) | S11: DPTI
A12: =IF(OR('Test Request'!B28=0, 'Test Request'!B28=""), "", 'Test Request'!B28) | B12: =IF(OR('Test Request'!F28=0, 'Test Request'!F28=""), "", 'Test Request'!F28) | C12: =IF(OR('Test Request'!I28=0, 'Test Request'!I28=""), "", 'Test Request'!I28) | D12: =IF(OR('Test Request'!G28=0, 'Test Request'!G28=""), "", 'Test Request'!G28) | E12: =IF(OR('Test Request'!C28=0, 'Test Request'!C28=""), "", 'Test Request'!C28) | M12: Shrink/Swell Index (*) + Insitu
A13: =IF(OR('Test Request'!B29=0, 'Test Request'!B29=""), "", 'Test Request'!B29) | B13: =IF(OR('Test Request'!F29=0, 'Test Request'!F29=""), "", 'Test Request'!F29) | C13: =IF(OR('Test Request'!I29=0, 'Test Request'!I29=""), "", 'Test Request'!I29) | D13: =IF(OR('Test Request'!G29=0, 'Test Request'!G29=""), "", 'Test Request'!G29) | E13: =IF(OR('Test Request'!C29=0, 'Test Request'!C29=""), "", 'Test Request'!C29) | M13: Shrink/Swell Index (*) + Remould
A14: =IF(OR('Test Request'!B30=0, 'Test Request'!B30=""), "", 'Test Request'!B30) | B14: =IF(OR('Test Request'!F30=0, 'Test Request'!F30=""), "", 'Test Request'!F30) | C14: =IF(OR('Test Request'!I30=0, 'Test Request'!I30=""), "", 'Test Request'!I30) | D14: =IF(OR('Test Request'!G30=0, 'Test Request'!G30=""), "", 'Test Request'!G30) | E14: =IF(OR('Test Request'!C30=0, 'Test Request'!C30=""), "", 'Test Request'!C30) | M14: Shrink/Swell Index + Swell Pressure (*) + Insitu
A15: =IF(OR('Test Request'!B31=0, 'Test Request'!B31=""), "", 'Test Request'!B31) | B15: =IF(OR('Test Request'!F31=0, 'Test Request'!F31=""), "", 'Test Request'!F31) | C15: =IF(OR('Test Request'!I31=0, 'Test Request'!I31=""), "", 'Test Request'!I31) | D15: =IF(OR('Test Request'!G31=0, 'Test Request'!G31=""), "", 'Test Request'!G31) | E15: =IF(OR('Test Request'!C31=0, 'Test Request'!C31=""), "", 'Test Request'!C31) | M15: Shrink/Swell Index + Swell Pressure (*) + Remould
A16: =IF(OR('Test Request'!B32=0, 'Test Request'!B32=""), "", 'Test Request'!B32) | B16: =IF(OR('Test Request'!F32=0, 'Test Request'!F32=""), "", 'Test Request'!F32) | C16: =IF(OR('Test Request'!I32=0, 'Test Request'!I32=""), "", 'Test Request'!I32) | D16: =IF(OR('Test Request'!G32=0, 'Test Request'!G32=""), "", 'Test Request'!G32) | E16: =IF(OR('Test Request'!C32=0, 'Test Request'!C32=""), "", 'Test Request'!C32) | M16: Emerson Class
A17: =IF(OR('Test Request'!B33=0, 'Test Request'!B33=""), "", 'Test Request'!B33) | B17: =IF(OR('Test Request'!F33=0, 'Test Request'!F33=""), "", 'Test Request'!F33) | C17: =IF(OR('Test Request'!I33=0, 'Test Request'!I33=""), "", 'Test Request'!I33) | D17: =IF(OR('Test Request'!G33=0, 'Test Request'!G33=""), "", 'Test Request'!G33) | E17: =IF(OR('Test Request'!C33=0, 'Test Request'!C33=""), "", 'Test Request'!C33) | M17: Pinhole Dispersion
A18: =IF(OR('Test Request'!B34=0, 'Test Request'!B34=""), "", 'Test Request'!B34) | B18: =IF(OR('Test Request'!F34=0, 'Test Request'!F34=""), "", 'Test Request'!F34) | C18: =IF(OR('Test Request'!I34=0, 'Test Request'!I34=""), "", 'Test Request'!I34) | D18: =IF(OR('Test Request'!G34=0, 'Test Request'!G34=""), "", 'Test Request'!G34) | E18: =IF(OR('Test Request'!C34=0, 'Test Request'!C34=""), "", 'Test Request'!C34) | M18: Unit Weight
A19: =IF(OR('Test Request'!B35=0, 'Test Request'!B35=""), "", 'Test Request'!B35) | B19: =IF(OR('Test Request'!F35=0, 'Test Request'!F35=""), "", 'Test Request'!F35) | C19: =IF(OR('Test Request'!I35=0, 'Test Request'!I35=""), "", 'Test Request'!I35) | D19: =IF(OR('Test Request'!G35=0, 'Test Request'!G35=""), "", 'Test Request'!G35) | E19: =IF(OR('Test Request'!C35=0, 'Test Request'!C35=""), "", 'Test Request'!C35) | M19: Compression - Qu
A20: =IF(OR('Test Request'!B36=0, 'Test Request'!B36=""), "", 'Test Request'!B36) | B20: =IF(OR('Test Request'!F36=0, 'Test Request'!F36=""), "", 'Test Request'!F36) | C20: =IF(OR('Test Request'!I36=0, 'Test Request'!I36=""), "", 'Test Request'!I36) | D20: =IF(OR('Test Request'!G36=0, 'Test Request'!G36=""), "", 'Test Request'!G36) | E20: =IF(OR('Test Request'!C36=0, 'Test Request'!C36=""), "", 'Test Request'!C36) | M20: Triaxial - UU: Single Stage
A21: =IF(OR('Test Request'!B37=0, 'Test Request'!B37=""), "", 'Test Request'!B37) | B21: =IF(OR('Test Request'!F37=0, 'Test Request'!F37=""), "", 'Test Request'!F37) | C21: =IF(OR('Test Request'!I37=0, 'Test Request'!I37=""), "", 'Test Request'!I37) | D21: =IF(OR('Test Request'!G37=0, 'Test Request'!G37=""), "", 'Test Request'!G37) | E21: =IF(OR('Test Request'!C37=0, 'Test Request'!C37=""), "", 'Test Request'!C37) | M21: Triaxial - UU: Multi Stage
A22: =IF(OR('Test Request'!B38=0, 'Test Request'!B38=""), "", 'Test Request'!B38) | B22: =IF(OR('Test Request'!F38=0, 'Test Request'!F38=""), "", 'Test Request'!F38) | C22: =IF(OR('Test Request'!I38=0, 'Test Request'!I38=""), "", 'Test Request'!I38) | D22: =IF(OR('Test Request'!G38=0, 'Test Request'!G38=""), "", 'Test Request'!G38) | E22: =IF(OR('Test Request'!C38=0, 'Test Request'!C38=""), "", 'Test Request'!C38) | M22: Triaxial - CU: Single Stage
A23: =IF(OR('Test Request'!B39=0, 'Test Request'!B39=""), "", 'Test Request'!B39) | B23: =IF(OR('Test Request'!F39=0, 'Test Request'!F39=""), "", 'Test Request'!F39) | C23: =IF(OR('Test Request'!I39=0, 'Test Request'!I39=""), "", 'Test Request'!I39) | D23: =IF(OR('Test Request'!G39=0, 'Test Request'!G39=""), "", 'Test Request'!G39) | E23: =IF(OR('Test Request'!C39=0, 'Test Request'!C39=""), "", 'Test Request'!C39) | M23: Triaxial - CU: Multi Stage
... A81: =IF(OR('Test Request'!B97=0, 'Test Request'!B97=""), "", 'Test Request'!B97) | B81: =IF(OR('Test Request'!F97=0, 'Test Request'!F97=""), "", 'Test Request'!F97) | C81: =IF(OR('Test Request'!I97=0, 'Test Request'!I97=""), "", 'Test Request'!I97) | D81: =IF(OR('Test Request'!G97=0, 'Test Request'!G97=""), "", 'Test Request'!G97) | E81: =IF(OR('Test Request'!C97=0, 'Test Request'!C97=""), "", 'Test Request'!C97) | M81: Petrographic Testing
A82: =IF(OR('Test Request'!B98=0, 'Test Request'!B98=""), "", 'Test Request'!B98) | B82: =IF(OR('Test Request'!F98=0, 'Test Request'!F98=""), "", 'Test Request'!F98) | C82: =IF(OR('Test Request'!I98=0, 'Test Request'!I98=""), "", 'Test Request'!I98) | D82: =IF(OR('Test Request'!G98=0, 'Test Request'!G98=""), "", 'Test Request'!G98) | E82: =IF(OR('Test Request'!C98=0, 'Test Request'!C98=""), "", 'Test Request'!C98)
A83: =IF(OR('Test Request'!B99=0, 'Test Request'!B99=""), "", 'Test Request'!B99) | B83: =IF(OR('Test Request'!F99=0, 'Test Request'!F99=""), "", 'Test Request'!F99) | C83: =IF(OR('Test Request'!I99=0, 'Test Request'!I99=""), "", 'Test Request'!I99) | D83: =IF(OR('Test Request'!G99=0, 'Test Request'!G99=""), "", 'Test Request'!G99) | E83: =IF(OR('Test Request'!C99=0, 'Test Request'!C99=""), "", 'Test Request'!C99)
A84: =IF(OR('Test Request'!B100=0, 'Test Request'!B100=""), "", 'Test Request'!B100) | B84: =IF(OR('Test Request'!F100=0, 'Test Request'!F100=""), "", 'Test Request'!F100) | C84: =IF(OR('Test Request'!I100=0, 'Test Request'!I100=""), "", 'Test Request'!I100) | D84: =IF(OR('Test Request'!G100=0, 'Test Request'!G100=""), "", 'Test Request'!G100) | E84: =IF(OR('Test Request'!C100=0, 'Test Request'!C100=""), "", 'Test Request'!C100)
A85: =IF(OR('Test Request'!B101=0, 'Test Request'!B101=""), "", 'Test Request'!B101) | B85: =IF(OR('Test Request'!F101=0, 'Test Request'!F101=""), "", 'Test Request'!F101) | C85: =IF(OR('Test Request'!I101=0, 'Test Request'!I101=""), "", 'Test Request'!I101) | D85: =IF(OR('Test Request'!G101=0, 'Test Request'!G101=""), "", 'Test Request'!G101) | E85: =IF(OR('Test Request'!C101=0, 'Test Request'!C101=""), "", 'Test Request'!C101)
A86: =IF(OR('Test Request'!B102=0, 'Test Request'!B102=""), "", 'Test Request'!B102) | B86: =IF(OR('Test Request'!F102=0, 'Test Request'!F102=""), "", 'Test Request'!F102) | C86: =IF(OR('Test Request'!I102=0, 'Test Request'!I102=""), "", 'Test Request'!I102) | D86: =IF(OR('Test Request'!G102=0, 'Test Request'!G102=""), "", 'Test Request'!G102) | E86: =IF(OR('Test Request'!C102=0, 'Test Request'!C102=""), "", 'Test Request'!C102)
A87: =IF(OR('Test Request'!B103=0, 'Test Request'!B103=""), "", 'Test Request'!B103) | B87: =IF(OR('Test Request'!F103=0, 'Test Request'!F103=""), "", 'Test Request'!F103) | C87: =IF(OR('Test Request'!I103=0, 'Test Request'!I103=""), "", 'Test Request'!I103) | D87: =IF(OR('Test Request'!G103=0, 'Test Request'!G103=""), "", 'Test Request'!G103) | E87: =IF(OR('Test Request'!C103=0, 'Test Request'!C103=""), "", 'Test Request'!C103)
A88: =IF(OR('Test Request'!B104=0, 'Test Request'!B104=""), "", 'Test Request'!B104) | B88: =IF(OR('Test Request'!F104=0, 'Test Request'!F104=""), "", 'Test Request'!F104) | C88: =IF(OR('Test Request'!I104=0, 'Test Request'!I104=""), "", 'Test Request'!I104) | D88: =IF(OR('Test Request'!G104=0, 'Test Request'!G104=""), "", 'Test Request'!G104) | E88: =IF(OR('Test Request'!C104=0, 'Test Request'!C104=""), "", 'Test Request'!C104)
A89: =IF(OR('Test Request'!B105=0, 'Test Request'!B105=""), "", 'Test Request'!B105) | B89: =IF(OR('Test Request'!F105=0, 'Test Request'!F105=""), "", 'Test Request'!F105) | C89: =IF(OR('Test Request'!I105=0, 'Test Request'!I105=""), "", 'Test Request'!I105) | D89: =IF(OR('Test Request'!G105=0, 'Test Request'!G105=""), "", 'Test Request'!G105) | E89: =IF(OR('Test Request'!C105=0, 'Test Request'!C105=""), "", 'Test Request'!C105)
A90: =IF(OR('Test Request'!B106=0, 'Test Request'!B106=""), "", 'Test Request'!B106) | B90: =IF(OR('Test Request'!F106=0, 'Test Request'!F106=""), "", 'Test Request'!F106) | C90: =IF(OR('Test Request'!I106=0, 'Test Request'!I106=""), "", 'Test Request'!I106) | D90: =IF(OR('Test Request'!G106=0, 'Test Request'!G106=""), "", 'Test Request'!G106) | E90: =IF(OR('Test Request'!C106=0, 'Test Request'!C106=""), "", 'Test Request'!C106)
A91: =IF(OR('Test Request'!B107=0, 'Test Request'!B107=""), "", 'Test Request'!B107) | B91: =IF(OR('Test Request'!F107=0, 'Test Request'!F107=""), "", 'Test Request'!F107) | C91: =IF(OR('Test Request'!I107=0, 'Test Request'!I107=""), "", 'Test Request'!I107) | D91: =IF(OR('Test Request'!G107=0, 'Test Request'!G107=""), "", 'Test Request'!G107) | E91: =IF(OR('Test Request'!C107=0, 'Test Request'!C107=""), "", 'Test Request'!C107)
A92: =IF(OR('Test Request'!B108=0, 'Test Request'!B108=""), "", 'Test Request'!B108) | B92: =IF(OR('Test Request'!F108=0, 'Test Request'!F108=""), "", 'Test Request'!F108) | C92: =IF(OR('Test Request'!I108=0, 'Test Request'!I108=""), "", 'Test Request'!I108) | D92: =IF(OR('Test Request'!G108=0, 'Test Request'!G108=""), "", 'Test Request'!G108) | E92: =IF(OR('Test Request'!C108=0, 'Test Request'!C108=""), "", 'Test Request'!C108)
A93: =IF(OR('Test Request'!B109=0, 'Test Request'!B109=""), "", 'Test Request'!B109) | B93: =IF(OR('Test Request'!F109=0, 'Test Request'!F109=""), "", 'Test Request'!F109) | C93: =IF(OR('Test Request'!I109=0, 'Test Request'!I109=""), "", 'Test Request'!I109) | D93: =IF(OR('Test Request'!G109=0, 'Test Request'!G109=""), "", 'Test Request'!G109) | E93: =IF(OR('Test Request'!C109=0, 'Test Request'!C109=""), "", 'Test Request'!C109)
... A332: =IF(OR('Test Request'!B348=0, 'Test Request'!B348=""), "", 'Test Request'!B348) | B332: =IF(OR('Test Request'!F348=0, 'Test Request'!F348=""), "", 'Test Request'!F348) | C332: =IF(OR('Test Request'!I348=0, 'Test Request'!I348=""), "", 'Test Request'!I348) | D332: =IF(OR('Test Request'!G348=0, 'Test Request'!G348=""), "", 'Test Request'!G348) | E332: =IF(OR('Test Request'!C348=0, 'Test Request'!C348=""), "", 'Test Request'!C348)
